BEGIN:VCALENDAR
VERSION:2.0
PRODID:Events Booking
BEGIN:VEVENT
UID:69e6f77405d6b
SUMMARY:Cobra Fantastic Another Gig Test Layout
DESCRIPTION:
LOCATION:52\, Rue Galande\, Paris\, 75005 Ile-de-France\, France
DTSTART:20241130T000000Z
DTSTAMP:20230923T143705Z
ORGANIZER;CN=bs.1mediatech.com:MAILTO:showbiz.team@gmail.com
GEO:48.851978;2.346718
X-APPLE-STRUCTURED-LOCATION;VALUE=URI;X-ADDRESS=52\, Rue Galande\, Paris\, 
 75005 Ile-de-France\, France;X-APPLE-RADIUS=72;X-TITLE=Caveau des Oubliett
 es :48.851978;2.346718
END:VEVENT
END:VCALENDAR