BEGIN:VCALENDAR
VERSION:2.0
PRODID:Events Booking
BEGIN:VEVENT
UID:69e7821f21355
SUMMARY:Cobra Fantastic @ La Boule Noire\, May 3
DESCRIPTION:
LOCATION:120 Boulevard de Rochechouart\, Paris\, 75018 Ile-de-France\, Fran
 ce
DTSTART:20240503T000000Z
DTSTAMP:20230923T143758Z
ORGANIZER;CN=bs.1mediatech.com:MAILTO:showbiz.team@gmail.com
GEO:48.882343;2.340276
X-APPLE-STRUCTURED-LOCATION;VALUE=URI;X-ADDRESS=120 Boulevard de Rochechoua
 rt\, Paris\, 75018 Ile-de-France\, France;X-APPLE-RADIUS=72;X-TITLE= LA BO
 ULE NOIRE:48.882343;2.340276
END:VEVENT
END:VCALENDAR