BEGIN:VCALENDAR
VERSION:2.0
PRODID:Events Booking
BEGIN:VEVENT
UID:69e6f6975c15c
SUMMARY:Cobra Fantastic @ Sunset Sunside
DESCRIPTION:
LOCATION:60 Rue des Lombards\, Paris\, 75001 Ile-de-France\, France
DTSTART:20241110T000000Z
DTSTAMP:20230923T144613Z
ORGANIZER;CN=bs.1mediatech.com:MAILTO:showbiz.team@gmail.com
GEO:48.859693;2.348605
X-APPLE-STRUCTURED-LOCATION;VALUE=URI;X-ADDRESS=60 Rue des Lombards\, Paris
 \, 75001 Ile-de-France\, France;X-APPLE-RADIUS=72;X-TITLE=Sunset - Sunside
 :48.859693;2.348605
END:VEVENT
END:VCALENDAR