BEGIN:VCALENDAR
VERSION:2.0
PRODID:Events Booking
BEGIN:VEVENT
UID:69e6ae0768a26
SUMMARY:Cowboys vs Packers
DESCRIPTION:
LOCATION:13 Rue de la Huchette\, Paris\, 75005 Ile-de-France\, France
DTSTART:20250212T000000Z
DTSTAMP:20250112T115926Z
ORGANIZER;CN=bs.1mediatech.com:MAILTO:showbiz.team@gmail.com
GEO:48.852892;2.345923
X-APPLE-STRUCTURED-LOCATION;VALUE=URI;X-ADDRESS=13 Rue de la Huchette\, Par
 is\, 75005 Ile-de-France\, France;X-APPLE-RADIUS=72;X-TITLE=Rosies Smoke H
 ouse Paris:48.852892;2.345923
END:VEVENT
END:VCALENDAR